BEGIN:VCALENDAR
VERSION:2.0
PRODID:-//Feuerwehrverein-Rosdorf//NONSGML kigkonsult.se iCalcreator 2.30.1
 0//
CALSCALE:GREGORIAN
METHOD:PUBLISH
UID:b02f8e57-0a1a-4363-9142-4eb7a4b1bd09
X-WR-CALNAME:iCagenda
X-WR-CALDESC:Event Management Extension for Joomla!
X-WR-RELCALID:3E26604A-50F4-4449-8B3E-E4F4932D05B5
X-WR-TIMEZONE:Europe/Berlin
BEGIN:VTIMEZONE
TZID:Europe/Berlin
BEGIN:STANDARD
TZNAME:CET
DTSTART:20261025T030000
TZOFFSETFROM:+0200
TZOFFSETTO:+0100
RDATE:20271031T030000
END:STANDARD
BEGIN:DAYLIGHT
TZNAME:CEST
DTSTART:20260329T020000
TZOFFSETFROM:+0100
TZOFFSETTO:+0200
RDATE:20270328T020000
RDATE:20280326T020000
END:DAYLIGHT
END:VTIMEZONE
BEGIN:VEVENT
UID:e9492e05-6f4e-4f12-b86c-3613af56397c
DTSTAMP:20260420T100610Z
CATEGORIES:Termine-Feuerwehrverein
CLASS:PUBLIC
DESCRIPTION;ALTREP="CID:<FFFF__=0ABBE548DFE235B58f9e8a93d@coffeebean.com>":
 \n Es gibt kein pdf-Plugin\, es kann  die pdf-Datei heruntergeladen werden
 . \n
DTSTART:20261230T180000Z
DTEND:20261230T220000Z
GEO:+51.508846;+9.893307
LOCATION:Feuerwehrhaus Rosdorf
ORGANIZER:
SEQUENCE:1
SUMMARY:Jahresabschluss Verein und Kommando
TRANSP:OPAQUE
URL:https://www.feuerwehrverein-rosdorf.de/terminkalender/221-jahresabschlu
 ss-verein-und-kommando-2.html
END:VEVENT
END:VCALENDAR
