BEGIN:VCALENDAR
VERSION:2.0
PRODID:-//Feuerwehrverein-Rosdorf//NONSGML kigkonsult.se iCalcreator 2.30.1
 0//
CALSCALE:GREGORIAN
METHOD:PUBLISH
UID:9e9e410f-a1e4-412f-a43c-e2e83c8f1c95
X-WR-CALNAME:iCagenda
X-WR-CALDESC:Event Management Extension for Joomla!
X-WR-RELCALID:3E26604A-50F4-4449-8B3E-E4F4932D05B5
X-WR-TIMEZONE:Europe/Berlin
BEGIN:VTIMEZONE
TZID:Europe/Berlin
BEGIN:STANDARD
TZNAME:CET
DTSTART:20261025T030000
TZOFFSETFROM:+0200
TZOFFSETTO:+0100
RDATE:20271031T030000
END:STANDARD
BEGIN:DAYLIGHT
TZNAME:CEST
DTSTART:20260329T020000
TZOFFSETFROM:+0100
TZOFFSETTO:+0200
RDATE:20270328T020000
RDATE:20280326T020000
END:DAYLIGHT
END:VTIMEZONE
BEGIN:VEVENT
UID:01a53783-2d74-43d4-9883-8b4a3d099f6e
DTSTAMP:20260420T100724Z
CATEGORIES:Termine-Kinder
CLASS:PUBLIC
DESCRIPTION:
DTSTART:20261202T160000Z
DTEND:20261202T173000Z
GEO:+51.508846;+9.893307
LOCATION:Feuerwehrhaus Rosdorf
ORGANIZER:
SEQUENCE:1
SUMMARY:Dienstabend Kinderfeuerwehr
TRANSP:OPAQUE
URL:https://www.feuerwehrverein-rosdorf.de/terminkalender/216-dienstabend-k
 inderfeuerwehr-4/2026-12-02-17-00.html
END:VEVENT
END:VCALENDAR
