BEGIN:VCALENDAR
VERSION:2.0
PRODID:-//Feuerwehrverein-Rosdorf//NONSGML kigkonsult.se iCalcreator 2.30.1
 0//
CALSCALE:GREGORIAN
METHOD:PUBLISH
UID:eae2d3ee-a032-416f-8d44-ea922f3d46fb
X-WR-CALNAME:iCagenda
X-WR-CALDESC:Event Management Extension for Joomla!
X-WR-RELCALID:3E26604A-50F4-4449-8B3E-E4F4932D05B5
X-WR-TIMEZONE:Europe/Berlin
BEGIN:VTIMEZONE
TZID:Europe/Berlin
BEGIN:STANDARD
TZNAME:CET
DTSTART:20251026T030000
TZOFFSETFROM:+0200
TZOFFSETTO:+0100
RDATE:20261025T030000
RDATE:20271031T030000
END:STANDARD
BEGIN:DAYLIGHT
TZNAME:CEST
DTSTART:20260329T020000
TZOFFSETFROM:+0100
TZOFFSETTO:+0200
RDATE:20270328T020000
RDATE:20280326T020000
END:DAYLIGHT
END:VTIMEZONE
BEGIN:VEVENT
UID:6a71f0a8-9a52-4d3e-8dfb-696a22b972c8
DTSTAMP:20260420T100724Z
CATEGORIES:Termine-Kinder
CLASS:PUBLIC
DESCRIPTION:
DTSTART:20260930T150000Z
DTEND:20260930T163000Z
GEO:+51.508846;+9.893307
LOCATION:Feuerwehrhaus Rosdorf
ORGANIZER:
SEQUENCE:1
SUMMARY:Dienstabend Kinderfeuerwehr
TRANSP:OPAQUE
URL:https://www.feuerwehrverein-rosdorf.de/terminkalender/215-dienstabend-k
 inderfeuerwehr-3/2026-09-30-17-00.html
END:VEVENT
END:VCALENDAR
