BEGIN:VCALENDAR
VERSION:2.0
PRODID:-//Feuerwehrverein-Rosdorf//NONSGML kigkonsult.se iCalcreator 2.30.1
 0//
CALSCALE:GREGORIAN
METHOD:PUBLISH
UID:148c00f0-aea8-46b8-8513-78c2f286caf6
X-WR-CALNAME:iCagenda
X-WR-CALDESC:Event Management Extension for Joomla!
X-WR-RELCALID:3E26604A-50F4-4449-8B3E-E4F4932D05B5
X-WR-TIMEZONE:Europe/Berlin
BEGIN:VTIMEZONE
TZID:Europe/Berlin
BEGIN:STANDARD
TZNAME:CET
DTSTART:20251026T030000
TZOFFSETFROM:+0200
TZOFFSETTO:+0100
RDATE:20261025T030000
RDATE:20271031T030000
END:STANDARD
BEGIN:DAYLIGHT
TZNAME:CEST
DTSTART:20260329T020000
TZOFFSETFROM:+0100
TZOFFSETTO:+0200
RDATE:20270328T020000
END:DAYLIGHT
END:VTIMEZONE
BEGIN:VEVENT
UID:2e442512-9bff-45d9-a766-540fe11ede17
DTSTAMP:20260420T083904Z
CATEGORIES:Termine-Kinder
CLASS:PUBLIC
DESCRIPTION:
DTSTART:20260819T150000Z
DTEND:20260819T163000Z
GEO:+51.508846;+9.893307
LOCATION:Feuerwehrhaus Rosdorf
ORGANIZER:
SEQUENCE:1
SUMMARY:Dienstabend Kinderfeuerwehr
TRANSP:OPAQUE
URL:https://www.feuerwehrverein-rosdorf.de/terminkalender/215-dienstabend-k
 inderfeuerwehr-3/2026-08-19-17-00.html
END:VEVENT
END:VCALENDAR
