BEGIN:VCALENDAR
VERSION:2.0
PRODID:-//Feuerwehrverein-Rosdorf//NONSGML kigkonsult.se iCalcreator 2.30.1
 0//
CALSCALE:GREGORIAN
METHOD:PUBLISH
UID:42300fb1-662d-4e87-b8f6-8b114a88dc52
X-WR-CALNAME:iCagenda
X-WR-CALDESC:Event Management Extension for Joomla!
X-WR-RELCALID:3E26604A-50F4-4449-8B3E-E4F4932D05B5
X-WR-TIMEZONE:Europe/Berlin
BEGIN:VTIMEZONE
TZID:Europe/Berlin
BEGIN:STANDARD
TZNAME:CET
DTSTART:20251026T030000
TZOFFSETFROM:+0200
TZOFFSETTO:+0100
RDATE:20261025T030000
RDATE:20271031T030000
END:STANDARD
BEGIN:DAYLIGHT
TZNAME:CEST
DTSTART:20260329T020000
TZOFFSETFROM:+0100
TZOFFSETTO:+0200
RDATE:20270328T020000
END:DAYLIGHT
END:VTIMEZONE
BEGIN:VEVENT
UID:1bc8f1ab-47d1-4386-89ee-4fcca3861cca
DTSTAMP:20260420T100748Z
CATEGORIES:Termine-Aktive
CLASS:PUBLIC
DESCRIPTION:
DTSTART:20260903T180000Z
DTEND:20260903T200000Z
GEO:+51.508846;+9.893307
LOCATION:Feuerwehrhaus Rosdorf
ORGANIZER:
SEQUENCE:1
SUMMARY:Dienstabend Aktive Feuerwehr
TRANSP:OPAQUE
URL:https://www.feuerwehrverein-rosdorf.de/terminkalender/210-dienstabend-a
 ktive-feuerwehr-2/2026-09-03-20-00.html
END:VEVENT
END:VCALENDAR
