BEGIN:VCALENDAR
VERSION:2.0
PRODID:-//Feuerwehrverein-Rosdorf//NONSGML kigkonsult.se iCalcreator 2.30.1
 0//
CALSCALE:GREGORIAN
METHOD:PUBLISH
UID:40aa0f24-d0c3-41f9-901f-1ecfec07deeb
X-WR-CALNAME:iCagenda
X-WR-CALDESC:Event Management Extension for Joomla!
X-WR-RELCALID:3E26604A-50F4-4449-8B3E-E4F4932D05B5
X-WR-TIMEZONE:Europe/Berlin
BEGIN:VTIMEZONE
TZID:Europe/Berlin
BEGIN:STANDARD
TZNAME:CET
DTSTART:20251026T030000
TZOFFSETFROM:+0200
TZOFFSETTO:+0100
RDATE:20261025T030000
RDATE:20271031T030000
END:STANDARD
BEGIN:DAYLIGHT
TZNAME:CEST
DTSTART:20260329T020000
TZOFFSETFROM:+0100
TZOFFSETTO:+0200
RDATE:20270328T020000
END:DAYLIGHT
END:VTIMEZONE
BEGIN:VEVENT
UID:d7346c1a-96fd-44d1-96fa-d759f5ec1373
DTSTAMP:20260420T083906Z
CATEGORIES:Termine-Aktive
CLASS:PUBLIC
DESCRIPTION:
DTSTART:20260806T180000Z
DTEND:20260806T200000Z
GEO:+51.508846;+9.893307
LOCATION:Feuerwehrhaus Rosdorf
ORGANIZER:
SEQUENCE:1
SUMMARY:Dienstabend Aktive Feuerwehr
TRANSP:OPAQUE
URL:https://www.feuerwehrverein-rosdorf.de/terminkalender/210-dienstabend-a
 ktive-feuerwehr-2/2026-08-06-20-00.html
END:VEVENT
END:VCALENDAR
