BEGIN:VCALENDAR
VERSION:2.0
PRODID:-//Feuerwehrverein-Rosdorf//NONSGML kigkonsult.se iCalcreator 2.30.1
 0//
CALSCALE:GREGORIAN
METHOD:PUBLISH
UID:49fcfd3b-ab84-47e2-8858-99253fa2a6ac
X-WR-CALNAME:iCagenda
X-WR-CALDESC:Event Management Extension for Joomla!
X-WR-RELCALID:3E26604A-50F4-4449-8B3E-E4F4932D05B5
X-WR-TIMEZONE:Europe/Berlin
BEGIN:VTIMEZONE
TZID:Europe/Berlin
BEGIN:STANDARD
TZNAME:CET
DTSTART:20251026T030000
TZOFFSETFROM:+0200
TZOFFSETTO:+0100
RDATE:20261025T030000
RDATE:20271031T030000
END:STANDARD
BEGIN:DAYLIGHT
TZNAME:CEST
DTSTART:20260329T020000
TZOFFSETFROM:+0100
TZOFFSETTO:+0200
RDATE:20270328T020000
END:DAYLIGHT
END:VTIMEZONE
BEGIN:VEVENT
UID:a2a7fb7b-579c-4d49-bb11-9aabe454d748
DTSTAMP:20260420T103000Z
CATEGORIES:Termine-Senioren
CLASS:PUBLIC
DESCRIPTION:
DTSTART:20260909T130000Z
DTEND:20260909T160000Z
GEO:+51.504093;+9.89927
LOCATION:Gemeindezentrum Rosdorf
ORGANIZER:
SEQUENCE:1
SUMMARY:Seniorennachmittags-Cafe
TRANSP:OPAQUE
URL:https://www.feuerwehrverein-rosdorf.de/terminkalender/186-seniorennachm
 ittags-cafe-7.html
END:VEVENT
END:VCALENDAR
